BEGIN:VCALENDAR
VERSION:2.0
PRODID:-//RFHAF - ECPv6.3.7//NONSGML v1.0//EN
CALSCALE:GREGORIAN
METHOD:PUBLISH
X-ORIGINAL-URL:https://rfhaf.org.fj
X-WR-CALDESC:Events for RFHAF
REFRESH-INTERVAL;VALUE=DURATION:PT1H
X-Robots-Tag:noindex
X-PUBLISHED-TTL:PT1H
BEGIN:VTIMEZONE
TZID:UTC
BEGIN:STANDARD
TZOFFSETFROM:+0000
TZOFFSETTO:+0000
TZNAME:UTC
DTSTART:20200101T000000
END:STANDARD
END:VTIMEZONE
BEGIN:VEVENT
DTSTART;VALUE=DATE:20200829
DTEND;VALUE=DATE:20200830
DTSTAMP:20260419T142454
CREATED:20200824T034504Z
LAST-MODIFIED:20200824T034504Z
UID:492-1598659200-1598745599@rfhaf.org.fj
SUMMARY:General Ethnic Woman's Ministry Rally
DESCRIPTION:Women’s Sexual Health awareness session. Topics covered:\nMenstruation & Menopause; Female Reproductive Parts and Its Functions; Conception and Contraception; Reproductive Cancers; and many more
URL:https://rfhaf.org.fj/event/general-ethnic-womans-ministry-rally/
CATEGORIES:Events
END:VEVENT
END:VCALENDAR